

BEGIN:VCALENDAR
VERSION:2.0
PRODID:-//European Vascular Biology Organisation - ECPv6.15.20//NONSGML v1.0//EN
CALSCALE:GREGORIAN
METHOD:PUBLISH
X-ORIGINAL-URL:https://evbo.org
X-WR-CALDESC:Events for European Vascular Biology Organisation
REFRESH-INTERVAL;VALUE=DURATION:PT1H
X-Robots-Tag:noindex
X-PUBLISHED-TTL:PT1H
BEGIN:VTIMEZONE
TZID:Europe/Helsinki
BEGIN:DAYLIGHT
TZOFFSETFROM:+0200
TZOFFSETTO:+0300
TZNAME:EEST
DTSTART:20240331T010000
END:DAYLIGHT
BEGIN:STANDARD
TZOFFSETFROM:+0300
TZOFFSETTO:+0200
TZNAME:EET
DTSTART:20241027T010000
END:STANDARD
BEGIN:DAYLIGHT
TZOFFSETFROM:+0200
TZOFFSETTO:+0300
TZNAME:EEST
DTSTART:20250330T010000
END:DAYLIGHT
BEGIN:STANDARD
TZOFFSETFROM:+0300
TZOFFSETTO:+0200
TZNAME:EET
DTSTART:20251026T010000
END:STANDARD
BEGIN:DAYLIGHT
TZOFFSETFROM:+0200
TZOFFSETTO:+0300
TZNAME:EEST
DTSTART:20260329T010000
END:DAYLIGHT
BEGIN:STANDARD
TZOFFSETFROM:+0300
TZOFFSETTO:+0200
TZNAME:EET
DTSTART:20261025T010000
END:STANDARD
BEGIN:DAYLIGHT
TZOFFSETFROM:+0200
TZOFFSETTO:+0300
TZNAME:EEST
DTSTART:20270328T010000
END:DAYLIGHT
BEGIN:STANDARD
TZOFFSETFROM:+0300
TZOFFSETTO:+0200
TZNAME:EET
DTSTART:20271031T010000
END:STANDARD
END:VTIMEZONE
BEGIN:VTIMEZONE
TZID:UTC
BEGIN:STANDARD
TZOFFSETFROM:+0000
TZOFFSETTO:+0000
TZNAME:UTC
DTSTART:20240101T000000
END:STANDARD
END:VTIMEZONE
BEGIN:VEVENT
DTSTART;TZID=Europe/Helsinki:20250930T150000
DTEND;TZID=Europe/Helsinki:20250930T160000
DTSTAMP:20260420T064309
CREATED:20250925T133339Z
LAST-MODIFIED:20250925T133339Z
UID:3064-1759244400-1759248000@evbo.org
SUMMARY:EVBO Seminar Series 2025
DESCRIPTION:EVBO Seminar Series\nTuesday\, 30th June 2025\n15:00-16:00 Central European Summer Time (GMT+02:00) \n  \nResearch spotlight \nShane Herbert\, The University of Manchester\, UK \n“Shaping the flow: Angiogenic cues encoded in cell shape” \n  \nYoung Investigator Spotlight \nDonato Inverso\, Medical Faculty\, Vita-Salute San Raffaele University\, Italy \n“Vascular control of MESH progression” \n  \n  \nModeration by Guillermo Luxán\, Goethe University Frankfurt\, Germany \nPlease click here to register  for this event.
URL:https://evbo.org/index.php/event/evbo-seminar-series-2025-12/
LOCATION:ZOOM meeting
CATEGORIES:Online Seminar
ATTACH;FMTTYPE=application/pdf:https://evbo.org/wp-content/uploads/2025/09/EVBO_Seminar_30092025.pdf
ORGANIZER;CN="EVBO":MAILTO:secretary@evbo.org
END:VEVENT
BEGIN:VEVENT
DTSTART;TZID=Europe/Helsinki:20251014T150000
DTEND;TZID=Europe/Helsinki:20251014T160000
DTSTAMP:20260420T064310
CREATED:20251009T064844Z
LAST-MODIFIED:20251009T064844Z
UID:3107-1760454000-1760457600@evbo.org
SUMMARY:EVBO Seminar Series 2025
DESCRIPTION:EVBO Seminar Series\nTuesday\, 14th October 2025\n15:00-16:00 Central European Summer Time (GMT+02:00) \n  \nResearch spotlight \nJacky Goetz\, Centre de recherche en biomédecine de Strasbourg\, France \n“Tumor cells exploit the vessel wall for metastatic dissemination” \n  \n  \nYoung Investigator Spotlight \nSeyed Javad Rasouli\, Max Planck Institute for Molecular Biomedicine\, Münster\, Germany \n“Pericytes are organ-specific regulators of tissue morphogenesis” \n  \n  \nModeration by Julien Vermot\, Imperial College London \nPlease click here to register  for this event.
URL:https://evbo.org/index.php/event/evbo-seminar-series-2025-13/
LOCATION:ZOOM meeting
CATEGORIES:Online Seminar
ATTACH;FMTTYPE=image/png:https://evbo.org/wp-content/uploads/2025/10/screenshot_seminar_14092025.png
ORGANIZER;CN="EVBO":MAILTO:secretary@evbo.org
END:VEVENT
BEGIN:VEVENT
DTSTART;TZID=Europe/Helsinki:20251028T150000
DTEND;TZID=Europe/Helsinki:20251028T160000
DTSTAMP:20260420T064310
CREATED:20251009T071234Z
LAST-MODIFIED:20251009T071234Z
UID:3118-1761663600-1761667200@evbo.org
SUMMARY:EVBO Seminar Series 2025
DESCRIPTION:EVBO Seminar Series\nTuesday\, 28th October 2025\n15:00-16:00 Central European Summer Time (GMT+02:00) \n  \nResearch spotlight\nLuisa Iruela-Arispe\, Northwestern Feindberg School of Medicine\, US\n“The Architecture of Aortic Growth: Length\, Width\, and Beyond” \nResearch spotlight\nJoanna Kalucka\, Aarhus University\, DK\n“Defining the Vascular Niche of Human Adipose Tissue Across Metabolic Conditions” \nYoung Investigator Spotlight\nSebastien Gauvrit\, University of Saskatchewan\, Canada\n“A β-catenin chromobody-based probe highlights endothelial maturation during vascular morphogenesis in vivo” \n  \nModeration by Laura de Rooij\, CeMM Research Center for Molecular Medicine\, Austria \nPlease click here to register  for this event.
URL:https://evbo.org/index.php/event/evbo-seminar-series-2025-14/
LOCATION:ZOOM meeting
CATEGORIES:Online Seminar
ATTACH;FMTTYPE=image/png:https://evbo.org/wp-content/uploads/2025/10/screenshot_seminar_28102025.png
ORGANIZER;CN="EVBO":MAILTO:secretary@evbo.org
END:VEVENT
BEGIN:VEVENT
DTSTART;VALUE=DATE:20251029
DTEND;VALUE=DATE:20251101
DTSTAMP:20260420T064310
CREATED:20250604T183440Z
LAST-MODIFIED:20250604T184022Z
UID:2989-1761696000-1761955199@evbo.org
SUMMARY:BraYn Conference 2025
DESCRIPTION:8th Brainstorming Research Assembly for Young Neuroscientists \nOctober 29–31\, 2025 | Turin\, Italy\nYou are cordially invited to the upcoming BraYn Conference 2025\nJoin us in Turin\, Italy\, for an international forum bringing together early-career researchers and established experts in neuroscience to share cutting-edge discoveries and foster collaboration. \nThis year’s program will cover six thematic sessions\, including Neurodevelopment\, Neuroinflammation\, Neurodegeneration\, Neuro-Oncology\, Neuroimaging & Clinical Neurology\, Neurophysiology & Neural Plasticity. \nKeynote Lecturer: Prof. Edvard I. Moser (Nobel Prize in Physiology or Medicine 2014) \n \n  \nAbstract Submission: May 28 – June 13\, 2025\nConference Dates: October 29–31\, 2025\nVenue: Aula Magna “Giovanni Agnelli”\, Politecnico di Torino\nCorso Duca degli Abruzzi 24\, Turin\, Italy \nFor full program details here.\nFor registration\, and abstract guidelines\, please visit www.braynconference.com \nIf you have any questions\, contact us at info@braynconference.com. \nWe look forward to welcoming you in Turin for an inspiring and productive meeting!
URL:https://evbo.org/index.php/event/brayn-conference-2025/
LOCATION:Aula Magna “Giovanni Agnelli”\, Corso Duca degli Abruzzi 24\, Torino\, 10129\, Italy
CATEGORIES:Meetings
ATTACH;FMTTYPE=image/png:https://evbo.org/wp-content/uploads/2025/06/Screenshot-2025-06-04-at-19.23.33.png
ORGANIZER;CN="BraYn":MAILTO:info@braynconference.com
END:VEVENT
BEGIN:VEVENT
DTSTART;TZID=Europe/Helsinki:20251111T150000
DTEND;TZID=Europe/Helsinki:20251111T160000
DTSTAMP:20260420T064310
CREATED:20251105T085358Z
LAST-MODIFIED:20251105T085557Z
UID:3148-1762873200-1762876800@evbo.org
SUMMARY:EVBO Seminar Series 2025
DESCRIPTION:EVBO Seminar Series\nTuesday\, 11th November 2025\n15:00-16:00 Central European Summer Time (GMT+02:00) \n  \nResearch spotlight\nEckhard Lammert\, Heinrich-Heine-University of Duesseldorf\, DE\n“Angiocrine signals in liver growth and disease” \nResearch spotlight\nMauro Siragusa\, Goethe University Frankfurt\, DE\n“NO boundaries: how eNOS in the nucleus shapes type I interferon signalling and endothelial function” \nYoung Investigator Spotlight\nKai Mesa\, Princeton University\, USA\n“Niche-Specific Macrophage Loss Promotes Skin Capillary Aging” \n  \nModeration by Ralf Adams\, Max Planck Institute for Molecular Biomedicine\, Münster\, Germany \nPlease click here to register  for this event.
URL:https://evbo.org/index.php/event/evbo-seminar-series-2025-15/
LOCATION:ZOOM meeting
CATEGORIES:Online Seminar
ATTACH;FMTTYPE=image/png:https://evbo.org/wp-content/uploads/2025/11/screenshot_seminar_11112025.png
ORGANIZER;CN="EVBO":MAILTO:secretary@evbo.org
END:VEVENT
BEGIN:VEVENT
DTSTART;TZID=Europe/Helsinki:20251125T150000
DTEND;TZID=Europe/Helsinki:20251125T160000
DTSTAMP:20260420T064310
CREATED:20251123T062440Z
LAST-MODIFIED:20251123T062440Z
UID:3169-1764082800-1764086400@evbo.org
SUMMARY:EVBO Seminar Series 2025
DESCRIPTION:EVBO Seminar Series\nTuesday\, 25th November 2025\n15:00-16:00 Central European Summer Time (GMT+02:00) \n  \nResearch spotlight\nPipsa Saharinen\,  Wihuri Research Institute\, Finland\n“Decoding Mechanisms of Metastasis Across the Pulmonary Endothelial Barrier” \nYoung Investigator Spotlight\nRiikka Pietilä\, Uppsala University\, Sweden\n“Therapeutic Tie2 targeting  restores kidney function in experimental kidney disease” \n  \nModeration by Serena Zacchigna\, International Centre for Genetic Engineering and Biotechnology\, Trieste\, Italy \nPlease click here to register  for this event.
URL:https://evbo.org/index.php/event/evbo-seminar-series-2025-16/
LOCATION:ZOOM meeting
CATEGORIES:Online Seminar
ATTACH;FMTTYPE=image/png:https://evbo.org/wp-content/uploads/2025/11/screenshot_seminar_25112025.png
ORGANIZER;CN="EVBO":MAILTO:secretary@evbo.org
END:VEVENT
BEGIN:VEVENT
DTSTART;TZID=Europe/Helsinki:20251209T150000
DTEND;TZID=Europe/Helsinki:20251209T160000
DTSTAMP:20260420T064310
CREATED:20251201T173532Z
LAST-MODIFIED:20251201T173638Z
UID:3178-1765292400-1765296000@evbo.org
SUMMARY:EVBO Seminar Series 2025
DESCRIPTION:EVBO Seminar Series\nTuesday\, 9th December 2025\n15:00-16:00 Central European Summer Time (GMT+02:00) \n  \nResearch spotlight \nStefanie Dimmeler\, Institut für Kardiovaskuläre Regeneration; Zentrum für Molekulare Medizin; Goethe-Universität Frankfurt\, DE \n“Vascular niches in cardiac aging“ \n  \nResearch spotlight \nStefania Nicoli\, Yale School of Medicine\, US \n“Post-transcriptional RNA programs governing vascular cell dynamics” \n  \nYoung Investigator Spotlight \nJosephine Tan\, Amsterdam UMC\, NL \n“Vascular smooth muscle cell modulation in aortic disease” \n  \nModeration by Anna Randi\, Imperial College London\, UK \nPlease click here to register  for this event.
URL:https://evbo.org/index.php/event/evbo-seminar-series-2025-17/
LOCATION:ZOOM meeting
CATEGORIES:Online Seminar
ATTACH;FMTTYPE=image/png:https://evbo.org/wp-content/uploads/2025/12/screenshot_seminar_09122025.png
ORGANIZER;CN="EVBO":MAILTO:secretary@evbo.org
END:VEVENT
BEGIN:VEVENT
DTSTART;TZID=Europe/Helsinki:20260128T150000
DTEND;TZID=Europe/Helsinki:20260128T160000
DTSTAMP:20260420T064310
CREATED:20260119T172224Z
LAST-MODIFIED:20260119T173253Z
UID:3214-1769612400-1769616000@evbo.org
SUMMARY:EVBO Seminar Series 2026
DESCRIPTION:EVBO Seminar Series\nWednesday\, 28th January 2026\n15:00-16:00 Central European Time \n  \nResearch spotlight \nGuillermo Luxán\, Institut für Kardiovaskuläre Regeneration; Goethe-Universität Frankfurt\, DE \n“How ageing and disease-driven cardiac stiffness shapes endothelial cell behavior” \n  \nYoung Investigator Spotlight \nLeire Bejarano\, Instituto de Investigación Sanitaria Biogipuzkoa\, Spain \n“Exploring the role of the vasculature in brain tumors” \n  \nYoung Investigator Spotlight \nSébastien Dumas\, The Institute of Metabolic and Cardiovascular Diseases\, INSERM \n“Renal endothelial cell diversity and plasticity as determinants of kidney maturation and function: insights from native kidneys and organoids” \n  \nModeration by Kerstin Wilhem-Jüngling\, Institut für Neurovaskuläre Zellbiologie\, Bonn\, DE \nPlease click here to register  for this event.
URL:https://evbo.org/index.php/event/evbo-seminar-series-2026/
LOCATION:ZOOM meeting
CATEGORIES:Online Seminar
ATTACH;FMTTYPE=image/png:https://evbo.org/wp-content/uploads/2026/01/screenshot_seminar_28012026.png
ORGANIZER;CN="EVBO":MAILTO:secretary@evbo.org
END:VEVENT
BEGIN:VEVENT
DTSTART;VALUE=DATE:20260216
DTEND;VALUE=DATE:20260220
DTSTAMP:20260420T064310
CREATED:20251009T065958Z
LAST-MODIFIED:20251009T070044Z
UID:3113-1771200000-1771545599@evbo.org
SUMMARY:The new cardiobiology 2026
DESCRIPTION:Cardiovascular disease is the leading cause of human mortality\, and despite an active research community many of the underlying mechanisms are unknown. Open questions surround molecular triggers\, the relationship of GxE\, impact of epigenetics\, the role of sex\, inflammation and microbiome\, as well as metabolism and multi-organ links in cardiovascular disease. Advanced molecular and human-mimicking tissue engineering techniques are revolutionizing the way we approach cardiovascular discovery research. These developments led to the inaugural “The new cardiobiology” meeting at EMBL in 2024.In light of further technical advances in the field\, the conference will repeat in 2026 and seek to unite speakers across cardiac and vascular biology\, tissue engineering as well as systems biology to continue studying cardiovascular disease. \nSession topics\n\nCardiovascular regeneration\nNovel 3D multicellular systems\nCardiometabolic complications\nMulti-organ disease\nNew translational breakthroughs\n\n\nOrganisers: \n\nJohannes Backs\nHeidelberg University\, Germany \nRoger Foo\nNational University of Singapore\, Singapore \nKristina Haase\nEMBL Barcelona\, Spain \nSara S. Nunes de Vasconcelos\nUniversity of Toronto\, Canada \n\nDeadlines \nAbstract submission:  15 Oct 2025 \nRegistration (On-site):  5 Jan 2026  \nOn-site registration \nRegistration (Virtual):  9 Feb 2026  \nVirtual Registration \nContact: Catherine Casas-Saavedra \n 
URL:https://evbo.org/index.php/event/the-new-cardiobiology-2026/
LOCATION:EMBL Heidelberg and Virtual\, EMBL Advanced Training Centre\, Heidelberg\, Germany
CATEGORIES:Meetings
ATTACH;FMTTYPE=image/png:https://evbo.org/wp-content/uploads/2025/10/The-new-cardiobiology_2026.png
END:VEVENT
BEGIN:VEVENT
DTSTART;TZID=Europe/Helsinki:20260225T150000
DTEND;TZID=Europe/Helsinki:20260225T160000
DTSTAMP:20260420T064310
CREATED:20260219T172321Z
LAST-MODIFIED:20260219T172321Z
UID:3239-1772031600-1772035200@evbo.org
SUMMARY:EVBO Seminar Series 2026
DESCRIPTION:EVBO Seminar Series\nWednesday\, 25th February 2026\n15:00-16:00 Central European Time \nResearch spotlight \nMichael Potente\, Berlin Center for Translational Vascular Biomedicine\, Berlin Institute of Health. Germany \n“Deconvolution of complex vascular phenotypes through targeted protein degradation“ \n  \nYoung Investigator Spotlight \nSarah Spitz\, TU Wien. Faculty of Technical Chemistry. Institute of Applied Synthetic Chemistry. Austria \n“An Isogenic Self-Assembled Blood–Brain Barrier Model Coupled to Cerebral Organoids to Investigate Transport Dysregulation in Alzheimer’s Disease” \n  \nPaper of the month \nAline Bauer\, Institute of Pharmaceutical Sciences. ETH Zürich. Switzerland \n“Transcriptomics- and 3D imaging–based characterization of the lymphatic vasculature in human skin” \n  \nModeration by Pipsa Saharinen\, Wihuri Research Institute\, Helsinki. Finnland \n  \nPlease click here to register \n 
URL:https://evbo.org/index.php/event/evbo-seminar-series-2026-2/
LOCATION:ZOOM meeting
CATEGORIES:Online Seminar
ATTACH;FMTTYPE=image/png:https://evbo.org/wp-content/uploads/2026/02/screenshot_seminar_25022026.png
ORGANIZER;CN="EVBO":MAILTO:secretary@evbo.org
END:VEVENT
BEGIN:VEVENT
DTSTART;TZID=Europe/Helsinki:20260325T150000
DTEND;TZID=Europe/Helsinki:20260325T160000
DTSTAMP:20260420T064310
CREATED:20260318T134146Z
LAST-MODIFIED:20260318T134146Z
UID:3274-1774450800-1774454400@evbo.org
SUMMARY:EVBO Seminar Series 2026
DESCRIPTION:EVBO Seminar Series\nWednesday\, 25th March 2026\n15:00-16:00 Central European Time \nYoung Investigator Spotlight \nHaaglim Cho\, Max Planck Institute for Heart and Lung Research\, Bad Nauheim\, Germany \n“Endothelial Insulin Resistance in Obesity-induced type 2 Diabetes“ \n  \nYoung Investigator Spotlight \nAnna Köck\, University of Lausanne\, Switzerland \n“MYCT1-IFITM2/3 restrains endothelial energy waste” \n  \nPaper of the month \nMariona Graupera\, Josep Carreras Leukemia Research Institute\, Spain \n“Deletion of Mfn2 in endothelial cells triggers a mitohormetic response that improves systemic metabolism and healthspan in mice” \n  \nModeration by Axel Montagne\, The University of Edinburgh\, Scotland \n  \nPlease click here to register \n 
URL:https://evbo.org/index.php/event/evbo-seminar-series-2026-3/
LOCATION:ZOOM meeting
CATEGORIES:Online Seminar
ATTACH;FMTTYPE=image/png:https://evbo.org/wp-content/uploads/2026/03/Screenshot-2026-03-18-144104.png
ORGANIZER;CN="EVBO":MAILTO:secretary@evbo.org
END:VEVENT
BEGIN:VEVENT
DTSTART;TZID=UTC:20260421T150000
DTEND;TZID=UTC:20260424T170000
DTSTAMP:20260420T064310
CREATED:20260330T143721Z
LAST-MODIFIED:20260330T145035Z
UID:3293-1776783600-1777050000@evbo.org
SUMMARY:Virtual EVBO Workshop - Practical Immunology for Vascular Biologists : Markers\, Methods\, and Models
DESCRIPTION:Prof. Claudia Monaco and the lab\nKennedy Institute of Rheumatology\, University of Oxford \nDate: Tuesday\, 21 April\nTime: 15:00–17:00 CET\nFormat: Online (Zoom link upon registration)\nDuration: 2 hours\nFor EVBO members only. Participation is free\, but registration is required. \nAbout the Workshop \nThe workshop will introduce vascular biologists to vascular immune cell populations and the practical tools we use to study them. Participants will learn: \n\nImmune cells typically found in murine aorta and human arteries\nHow to profile immune cells using Mass Cytometry (CyTOF)\nHow to visualize spatial cellular interactions via Imaging Mass Cytometry\nWhen and how to apply complementary tools such as scRNA‑seq and spatial transcriptomics\nPractical marker selection\, experimental design\, and troubleshooting tips\n\nThe workshop includes presentations from the Monaco Lab\, followed by an interactive Q&A session.\nNo prior immunology background is required. \nProgramme  \n15:00–15:30\nClaudia Monaco \nIntroductory lecture : Immune Cells in Vascular Tissues\nImmune populations in murine aorta & human arteries\, at baseline and in disease \n  \n15:30-16:00 \nDave Ahern/Jennifer Cole\nMass Cytometry (CyTOF)\nTissue preparation\, panel design\, analysis strategies\, and pitfalls. \n16:00-16:20 \nDave Ahern/Jennifer Cole\nImaging Mass Cytometry\nSpatial immune–vascular mapping\, workflow\, and examples. \n16:20-16:40 \nMohammadali Yavari Ramsheh / Aleksandra Boikova \nComplementary Approaches: scRNA‑seq & More\nMethod selection\, data analysis and applications. \n16h40-17:00 \nQ&A Session \n 
URL:https://evbo.org/index.php/event/virtual-evbo-workshop-practical-immunology-for-vascular-biologists-markers-methods-and-models/
LOCATION:ZOOM meeting
CATEGORIES:Meetings
ATTACH;FMTTYPE=image/png:https://evbo.org/wp-content/uploads/2026/03/monacoworkshop-1.png
ORGANIZER;CN="EVBO":MAILTO:secretary@evbo.org
END:VEVENT
BEGIN:VEVENT
DTSTART;VALUE=DATE:20260513
DTEND;VALUE=DATE:20260516
DTSTAMP:20260420T064310
CREATED:20260212T124514Z
LAST-MODIFIED:20260212T124651Z
UID:3234-1778630400-1778889599@evbo.org
SUMMARY:EMBO Workshop: Building Networks
DESCRIPTION:Conference overview\nVascularisation is a rapidly growing field\, with researchers across disciplines recognising its crucial role in organ development\, disease progression\, and therapeutic delivery. Traditionally\, vascular biologists have relied on animal models to investigate key processes such as vascular signalling\, angiogenesis\, and remodelling. These models remain foundational\, however\, they do not always fully capture human-specific vascular behaviour. \nIn recent years\, advances in multicellular systems\, gene editing\, stem cell technologies\, and bioengineering have created new opportunities to study vascular biology in vitro using human cells. \nThis upcoming edition of the meeting aims to unite researchers working at the intersection of engineering and vascular biology\, facilitating discussions on how to apply cutting-edge techniques in spatial omics\, advanced imaging\, and the use of AI in vascular research. \nSession topics\n\nVascular development\, disease\, and models\nMechano-vascular biology\nMetabolism\, signalling\, and angiogenesis\nOrgan-specific models and biology\nImaging and bioengineered models\nVascular identity\, blood and lymphatics\nComputational models and AI
URL:https://evbo.org/index.php/event/embo-workshop-building-networks/
LOCATION:EMBL Barcelona\, Barcelona\, Spain
CATEGORIES:Meetings
ATTACH;FMTTYPE=image/jpeg:https://evbo.org/wp-content/uploads/2026/02/EVB26-01_Offsite_holdingslide_16_9_web-scaled-1.jpg
END:VEVENT
BEGIN:VEVENT
DTSTART;VALUE=DATE:20260918
DTEND;VALUE=DATE:20260920
DTSTAMP:20260420T064310
CREATED:20260224T170203Z
LAST-MODIFIED:20260224T170203Z
UID:3246-1789689600-1789862399@evbo.org
SUMMARY:SEEON ANGIOSCIENCE - YOUNG INVESTIGATOR MEETING 2026
DESCRIPTION:STEVE SPURGIN AND TULI PRAMANIK\, DALLAS\nFILIPA OLIVEIRA\, HELSINKI \nKLOSTER SEEON\, GERMANY \nONLINE APPLICATION / ABSTRACT SUBMISSION: FEB 1 – JUN 15\, 2026 \nWWW.VWFB.DE
URL:https://evbo.org/index.php/event/seeon-angioscience-young-investigator-meeting-2026/
LOCATION:KLOSTER SEEON\, GERMANY\, Germany
CATEGORIES:Meetings
ATTACH;FMTTYPE=image/png:https://evbo.org/wp-content/uploads/2026/02/seeon2.png
END:VEVENT
BEGIN:VEVENT
DTSTART;VALUE=DATE:20260919
DTEND;VALUE=DATE:20260923
DTSTAMP:20260420T064310
CREATED:20260224T165837Z
LAST-MODIFIED:20260224T165837Z
UID:3242-1789776000-1790121599@evbo.org
SUMMARY:SEEON ANGIOSCIENCE 2026
DESCRIPTION:September 19 -22\, 2026 \nCHAIR: ONDINE CLEAVER\, DALLAS\nCO-CHAIR: TAIJA MÄKINEN\, HELSINKI \nINVITED SPEAKERS:\nRALF ADAMS – Münster\nHELLMUT AUGUSTIN – Mannheim/Heidelberg\nRUI BENEDITO – Münster/Madrid\nLENA CLAESSON-WELSH – Uppsala\nANNE EICHMANN – New Haven\nMAIKE FRYE – Hamburg\nHOLGER GERHARDT – Berlin\nSHANE HERBERT – Manchester\nTIMOTHY HLA – Boston\nBEN HOGAN – Melbourne\nBONG-IHN KOH – New Haven\nTAIJA MÄKINEN – Helsinki\nSTEFANIA NICOLI – New Haven\nTATIANA PETROVA – Lausanne\nLI-KUN PHNG – Kobe\nMICHAEL POTENTE – Berlin\nPIPSA SAHARINEN – Helsinki\nMIGUEL TORRES – Madrid\nBENOIT VANHOLLEBEKE – Brussels \nKLOSTER SEEON\, GERMANY \nONLINE APPLICATION / ABSTRACT SUBMISSION: FEB 1 – JUN 15\, 2026 \nWWW.VWFB.DE
URL:https://evbo.org/index.php/event/seeon-angioscience-2026/
LOCATION:KLOSTER SEEON\, GERMANY\, Germany
CATEGORIES:Meetings
ATTACH;FMTTYPE=image/png:https://evbo.org/wp-content/uploads/2026/02/seeon.png
END:VEVENT
END:VCALENDAR